View In:
ArcGIS JavaScript
ArcGIS Online Map Viewer
ArcGIS EarthService Description: BaseMaps/DEM2018
Name: BaseMaps/DEM2018
Description: Single Fused Map Cache: false
Extent:
XMin: 320795.5
YMin: 5539476.75
XMax: 348266.75
YMax: 5561010.25
Spatial Reference: 26911
(26911)
LatestVCSWkid(0)
Initial Extent:
XMin: 320795.5
YMin: 5539476.75
XMax: 348266.75
YMax: 5561010.25
Spatial Reference: 26911
(26911)
LatestVCSWkid(0)
Full Extent:
XMin: 320795.5
YMin: 5539476.75
XMax: 348266.75
YMax: 5561010.25
Spatial Reference: 26911
(26911)
LatestVCSWkid(0)
Pixel Size X: 0.25
Pixel Size Y: 0.25
Band Count: 1
Pixel Type: F32
RasterFunction Infos: {"rasterFunctionInfos": [{
"name": "None",
"description": "",
"help": ""
}]}
Mensuration Capabilities: Basic
Inspection Capabilities:Has Histograms: true
Has Colormap: false
Has Multi Dimensions : false
Rendering Rule:Min Scale: 0
Max Scale: 0
Copyright Text: Service Data Type: esriImageServiceDataTypeGeneric
Min Values: 341.6000061035156
Max Values: 1638.1099853515625
Mean Values: 963.1605300107749
Standard Deviation Values: 442.71656941658256
Object ID Field: Fields: NoneDefault Mosaic Method: Center
Allowed Mosaic Methods: SortField: SortValue: null
Mosaic Operator: First
Default Compression Quality: 75
Default Resampling Method: Bilinear
Max Record Count: null
Max Image Height: 4100
Max Image Width: 15000
Max Download Image Count: null
Max Mosaic Image Count: null
Allow Raster Function: true
Allow Copy: true
Allow Analysis: true
Allow Compute TiePoints: false
Supports Statistics: false
Supports Advanced Queries: false
Use StandardizedQueries: true
Raster Type Infos:
Name: Raster Dataset
Description: Supports all ArcGIS Raster Datasets
Help:
Has Raster Attribute Table: false
Edit Fields Info: null
Ownership Based AccessControl For Rasters: null
Child Resources:
Info
Histograms
Statistics
Key Properties
Legend
Raster Function InfosSupported Operations:
Export Image
Identify
Measure
Compute Histograms
Compute Statistics Histograms
Get Samples
Compute Class Statistics
Query Boundary
Compute Pixel Location
Compute Angles
Validate
Project